BEGIN:VCALENDAR
VERSION:2.0
PRODID:-//Eric Cordier - ECPv6.15.20//NONSGML v1.0//EN
CALSCALE:GREGORIAN
METHOD:PUBLISH
X-ORIGINAL-URL:https://www.ericcordier.fr
X-WR-CALDESC:Évènements pour Eric Cordier
REFRESH-INTERVAL;VALUE=DURATION:PT1H
X-Robots-Tag:noindex
X-PUBLISHED-TTL:PT1H
BEGIN:VTIMEZONE
TZID:Europe/Paris
BEGIN:DAYLIGHT
TZOFFSETFROM:+0100
TZOFFSETTO:+0200
TZNAME:CEST
DTSTART:20140330T010000
END:DAYLIGHT
BEGIN:STANDARD
TZOFFSETFROM:+0200
TZOFFSETTO:+0100
TZNAME:CET
DTSTART:20141026T010000
END:STANDARD
BEGIN:DAYLIGHT
TZOFFSETFROM:+0100
TZOFFSETTO:+0200
TZNAME:CEST
DTSTART:20150329T010000
END:DAYLIGHT
BEGIN:STANDARD
TZOFFSETFROM:+0200
TZOFFSETTO:+0100
TZNAME:CET
DTSTART:20151025T010000
END:STANDARD
BEGIN:DAYLIGHT
TZOFFSETFROM:+0100
TZOFFSETTO:+0200
TZNAME:CEST
DTSTART:20160327T010000
END:DAYLIGHT
BEGIN:STANDARD
TZOFFSETFROM:+0200
TZOFFSETTO:+0100
TZNAME:CET
DTSTART:20161030T010000
END:STANDARD
END:VTIMEZONE
BEGIN:VEVENT
DTSTART;VALUE=DATE:20151214
DTEND;VALUE=DATE:20151215
DTSTAMP:20260423T104751
CREATED:20151202T145735Z
LAST-MODIFIED:20160216T114034Z
UID:15494-1450051200-1450137599@www.ericcordier.fr
SUMMARY:MAGNETOSPHERE - CNES / Observatoire de Meudon / Lesia
DESCRIPTION:L’aspect sonore des manifestations magnétiques en provenance de Saturne. \n  \nSuite au projet Intégration et dans le cadre de ma résidence à l’Observatoire de l’Espace\, le laboratoire arts-sciences du CNES (Centre National d’Etudes Spatiales) m’a mis en relation avec un Scientifique du LESIA (Laboratoire d’Études Spatiales et d’Instrumentation en Astrophysique)\, Philippe Zarka. Il travaille sur la radioastronomie et en particulier sur la magnétosphère et l’ionosphère des planètes (c’est cette dernière qui sur terre nous sert à réfléchir les ondes radio et donc écouter à distance les programmes de radio!). L’Observatoire de l’Espace du CNES\, m’a orienté sur le travail de Philippe Zarka autour de Saturne et notamment le SKR le rayonnement Radio auroral Kilométrique de Saturne (l’acronyme est anglais). \nEpris de transmission\, Philippe Zarka\, double son travail scientifique d’une approche vulgarisatrice. Que les sources proviennent de la sonde Cassini\, de radiotélescopes\, etc\, il rend « palpable » les signaux électromagnétiques en les transposant en son et en images.  Et c’est là que cela devient passionnant pour nous. A la base\, il ne s’agit pas de sons\, il n’y a pas encore de sonde qui ait enregistré directement le son des orages saturniens. Cependant\, les phénomènes transmis/captés par ondes radio sont ensuite transcodés dans les fréquences audibles. Le résultat est consultable sur sa page « Chants du Cosmos ». Les extraits sont très courts et\, aux oreilles du musicien\, font ressortir des couleurs sonores similaires a des artéfacts numériques. Tout l’enjeu pour moi serait de remonter à la source de ces transpositions pour voir s’il serait possible de les rendre audibles avec moins d’artéfacts numériques. En un mot de les rendre plus « réalistes »\, plus « concrètes » moins « numériques ». Je ne sais pas si cela est possible\, mais nous allons tenter la chose et si cela marche la beauté de ces transpositions électro-magnétiques en ondes sonores devrait être sidérantes. \nhttp://www.ericcordier.fr/wperic/wp-content/uploads/2015/12/Sat2003LF-Emissions-radio-basses-fréquences-électrons-mouvement-magnétosphère-de-Saturne-Ordinateur.m4v\nExemple de fichier audio-visuel créé par Philippe Zarka avant « nettoyage » . \n 
URL:https://www.ericcordier.fr/event/magnetosphere-cnes-observatoire-de-meudon-lesia/
LOCATION:Observatoire de Meudon\, Meudon\, France
CATEGORIES:Résidence de création
ATTACH;FMTTYPE=image/jpeg:https://www.ericcordier.fr/wperic/wp-content/uploads/2015/12/Ariane-av-206-50-2.jpg
END:VEVENT
END:VCALENDAR